BEGIN:VCALENDAR
VERSION:2.0
PRODID:https://www.wellheim.de/
X-PUBLISHED-TTL:P1D
BEGIN:VEVENT
UID:69e642dd961d6
DTSTART:20261204T180000Z
SEQUENCE:0
TRANSP:OPAQUE
DTEND:20261204T180000Z
URL:https://www.wellheim.de/veranstaltungen/weihnachtsfeier_der_spvgg-66914
 9/
LOCATION:- Veranstaltung ohne festen Ort - Wellheim
SUMMARY:Weihnachtsfeier der SpVgg
DTSTAMP:20260420T171437Z
END:VEVENT
END:VCALENDAR