BEGIN:VCALENDAR
VERSION:2.0
PRODID:https://www.wellheim.de/
X-PUBLISHED-TTL:P1D
BEGIN:VEVENT
UID:69e76b49d6962
DTSTART:20260513T170000Z
SEQUENCE:0
TRANSP:OPAQUE
DTEND:20260513T170000Z
URL:https://www.wellheim.de/veranstaltungen/vatertagsfest_biesenhard-807299
 -12681963/
LOCATION:Dorfplatz Biesenhard - Wellheim
SUMMARY:Vatertagsfest Biesenhard
DTSTAMP:20260421T141921Z
END:VEVENT
END:VCALENDAR