BEGIN:VCALENDAR
VERSION:2.0
PRODID:https://www.wellheim.de/
X-PUBLISHED-TTL:P1D
BEGIN:VEVENT
UID:69e7671aa1b6d
DTSTART:20260513T170000Z
SEQUENCE:0
TRANSP:OPAQUE
DTEND:20260513T170000Z
URL:https://www.wellheim.de/veranstaltungen/schafkopfrennen_biesenhard-8073
 03-12681959/
LOCATION:Dorfplatz Biesenhard - Wellheim
SUMMARY:Schafkopfrennen Biesenhard
DTSTAMP:20260421T140130Z
END:VEVENT
END:VCALENDAR