BEGIN:VCALENDAR
VERSION:2.0
PRODID:https://www.wellheim.de/
X-PUBLISHED-TTL:P1D
BEGIN:VEVENT
UID:69e6680b1036d
DTSTART:20260509T080000Z
SEQUENCE:0
TRANSP:OPAQUE
DTEND:20260509T110000Z
URL:https://www.wellheim.de/veranstaltungen/oldtimertreffen_hard-806565-126
 81865/
LOCATION:- Veranstaltung ohne festen Ort - Wellheim
SUMMARY:Oldtimertreffen Hard
DESCRIPTION:Preisverleihung & Tretbulldog-Parcour für Kinder
DTSTAMP:20260420T195315Z
END:VEVENT
END:VCALENDAR