BEGIN:VCALENDAR
VERSION:2.0
PRODID:https://www.wellheim.de/
X-PUBLISHED-TTL:P1D
BEGIN:VEVENT
UID:69e8c27c9971e
DTSTART:20270108T150000Z
SEQUENCE:0
TRANSP:OPAQUE
DTEND:20270108T210000Z
URL:https://www.wellheim.de/veranstaltungen/kleines_gardetreffen-808109-126
 82269/
LOCATION:Schule Wellheim - Wellheim
SUMMARY:Kleines Gardetreffen
DTSTAMP:20260422T144340Z
END:VEVENT
END:VCALENDAR