BEGIN:VCALENDAR
VERSION:2.0
PRODID:https://www.wellheim.de/
X-PUBLISHED-TTL:P1D
BEGIN:VEVENT
UID:69e8c2dea0c30
DTSTART:20270106T130000Z
SEQUENCE:0
TRANSP:OPAQUE
DTEND:20270106T170000Z
URL:https://www.wellheim.de/veranstaltungen/kinderball_der_konwella-808115-
 12682275/
LOCATION:Schule Wellheim - Wellheim
SUMMARY:Kinderball der KonWella
DTSTAMP:20260422T144518Z
END:VEVENT
END:VCALENDAR