BEGIN:VCALENDAR
VERSION:2.0
PRODID:https://www.wellheim.de/
X-PUBLISHED-TTL:P1D
BEGIN:VEVENT
UID:69e665d8c941c
DTSTART:20260508T180000Z
SEQUENCE:0
TRANSP:OPAQUE
DTEND:20260508T180000Z
URL:https://www.wellheim.de/veranstaltungen/kabarett_abend_mit_ralf_winkel-
 806573-12681887/
LOCATION:- Veranstaltung ohne festen Ort - Wellheim
SUMMARY:Kabarett Abend mit Ralf Winkelbeiner mit seinem neuen Programm „H
 appy“ in Hard
DTSTAMP:20260420T194352Z
END:VEVENT
END:VCALENDAR