BEGIN:VCALENDAR
VERSION:2.0
PRODID:https://www.wellheim.de/
X-PUBLISHED-TTL:P1D
BEGIN:VEVENT
UID:69e8e0ae78d88
DTSTART:20270109T130000Z
SEQUENCE:0
TRANSP:OPAQUE
DTEND:20270110T020000Z
URL:https://www.wellheim.de/veranstaltungen/grosses_gardetreffen-808111/
LOCATION:Schule Wellheim - Wellheim
SUMMARY:Großes Gardetreffen
DTSTAMP:20260422T165230Z
END:VEVENT
END:VCALENDAR