BEGIN:VCALENDAR
VERSION:2.0
PRODID:https://www.wellheim.de/
X-PUBLISHED-TTL:P1D
BEGIN:VEVENT
UID:69e60535f3a70
DTSTART:20260609T170000Z
SEQUENCE:0
TRANSP:OPAQUE
DTEND:20260609T170000Z
URL:https://www.wellheim.de/veranstaltungen/feuerwehr_stammtisch-717721-126
 28259/
LOCATION:Feuerwehrhaus Wellheim Florianstüberl - Wellheim
SUMMARY:Feuerwehr Stammtisch
DTSTAMP:20260420T125134Z
END:VEVENT
END:VCALENDAR