BEGIN:VCALENDAR
VERSION:2.0
PRODID:https://www.wellheim.de/
X-PUBLISHED-TTL:P1D
BEGIN:VEVENT
UID:69e8c3239b181
DTSTART:20270105T180000Z
SEQUENCE:0
TRANSP:OPAQUE
DTEND:20270106T020000Z
URL:https://www.wellheim.de/veranstaltungen/eroeffnungsball_der_konwella-80
 8113-12682273/
LOCATION:Schule Wellheim - Wellheim
SUMMARY:Eröffnungsball der KonWella
DTSTAMP:20260422T144627Z
END:VEVENT
END:VCALENDAR