BEGIN:VCALENDAR
VERSION:2.0
PRODID:https://www.wellheim.de/
X-PUBLISHED-TTL:P1D
BEGIN:VEVENT
UID:69e4f508163f9
DTSTART:20260712T081500Z
SEQUENCE:0
TRANSP:OPAQUE
DTEND:20260712T081500Z
URL:https://www.wellheim.de/veranstaltungen/bergmesse_am_naturfreundehaus-7
 74273-12666383/
LOCATION:Naturfreundehaus Konstein - Wellheim
SUMMARY:Bergmesse am Naturfreundehaus
DTSTAMP:20260419T173016Z
END:VEVENT
END:VCALENDAR