BEGIN:VCALENDAR
VERSION:2.0
PRODID:https://www.wellheim.de/
X-PUBLISHED-TTL:P1D
BEGIN:VEVENT
UID:69e669a99d4da
DTSTART:20260510T120000Z
SEQUENCE:0
TRANSP:OPAQUE
DTEND:20260510T160000Z
URL:https://www.wellheim.de/veranstaltungen/150_jahre_freiwillige_feuerweh-
 806561-12681799/
LOCATION:- Veranstaltung ohne festen Ort - Wellheim
SUMMARY:150 Jahre Freiwillige Feuerwehr Hard
DESCRIPTION:Feierlicher Festumzug anlässlich des 150jährigen Gründungsju
 biläums der FFW Hard
DTSTAMP:20260420T200009Z
END:VEVENT
END:VCALENDAR